BEGIN:VCALENDAR
VERSION:2.0
PRODID:-//Contratero//ES
CALSCALE:GREGORIAN
METHOD:PUBLISH
BEGIN:VEVENT
UID:CO-2019/585-B 33@contratero.es
DTSTAMP:20260420T002803Z
DTSTART:20200612T235959
DTEND:20200613T005959
SUMMARY:Cierre: Contrato Basado nº 33: Actualización de inventario
DESCRIPTION:Contrato Basado nº 33: Actualización de inventario municipal\, con destino al Ayuntamiento de Torredelcampo.\nAcuerdo Marco: Servicios de Asistencia Técnica en materia Económico Financiera a suscribir p...\\n\\nOrganismo: Presidencia de la Diputación Provincial de Jaén\\n\\nVer en Contratero: https://contratero.es/contracts/CO-2019/585-B 33
URL:https://contratero.es/contracts/CO-2019/585-B 33
STATUS:CONFIRMED
BEGIN:VALARM
TRIGGER:-P1D
ACTION:DISPLAY
DESCRIPTION:Recordatorio: Contrato Basado nº 33: Actuali
END:VALARM
END:VEVENT
END:VCALENDAR